BEGIN:VCALENDAR
VERSION:2.0
PRODID:-//212 Productions - ECPv6.15.20//NONSGML v1.0//EN
CALSCALE:GREGORIAN
METHOD:PUBLISH
X-WR-CALNAME:212 Productions
X-ORIGINAL-URL:https://www.212productions.co.uk
X-WR-CALDESC:Events for 212 Productions
REFRESH-INTERVAL;VALUE=DURATION:PT1H
X-Robots-Tag:noindex
X-PUBLISHED-TTL:PT1H
BEGIN:VTIMEZONE
TZID:UTC
BEGIN:STANDARD
TZOFFSETFROM:+0000
TZOFFSETTO:+0000
TZNAME:UTC
DTSTART:20250101T000000
END:STANDARD
END:VTIMEZONE
BEGIN:VEVENT
DTSTART;TZID=UTC:20260207T113000
DTEND;TZID=UTC:20260221T170000
DTSTAMP:20260422T143758
CREATED:20260204T114335Z
LAST-MODIFIED:20260204T114446Z
UID:6582-1770463800-1771693200@www.212productions.co.uk
SUMMARY:Master & Apprentice: Painting with a Young Leonardo
DESCRIPTION:Before Leonardo da Vinci became a legend\, he was an apprentice in Andrea del Verrocchio’s vibrant Florentine workshop. While working on The Baptism of Christ\, Leonardo’s contribution was so exquisitely refined that\, according to legend\, Verrocchio never painted again. This extraordinary moment—where mastery quietly eclipses tradition—forms the heart of this course. \n\n\n\nIn this immersive oil painting course\, we will focus on painting the two angels from The Baptism of Christ\, exploring the moment where High Renaissance naturalism truly comes alive. You’ll learn how to build luminous flesh and atmosphere using the Sfumato technique—Leonardo’s famously subtle\, almost magical method of soft transitions. We’ll also dive deep into convincing drapery folds\, understanding how fabric flows\, settles\, and supports form\, and you’ll learn how to integrate gold leaf into your paintings\, uniting brilliance with classical tradition. \n\n\n\nSeveral of you mentioned wanting to finally get to grips with painting drapery with confidence—there could be no better guide than a young Leonardo himself. This course is ideal if you want to slow down\, refine your eye\, and paint with intention\, sensitivity\, and historical depth. \n\n\n\n\n\n\n\n\n\n\n\nDates:Saturday 7 FebruarySaturday 15 FebruarySaturday 21 February \n\n\n\nPossible additional session:Sunday 22 February (TBC\, based on student availability)(No extra cost if required) \n\n\n\nTime: 11:30 AM – 5:00 PMLocation: 212 Productions Studio https://www.212productions.co.uk/contact/Fee: £295 per person \n\n\n\nEmail: drawingboard212@gmail.com \n\n\n\nTickets Available on Headfirst or get in touch https://hdfst.uk/e145029 \n\n\n\nThis course offers a rare opportunity to step inside a Renaissance workshop\, refine essential painting skills\, and experience the quiet power of classical technique. I very much look forward to creating with you. \n\n\n\nEnd date: 6:00pm on Sunday February 22nd\, 2026
URL:https://www.212productions.co.uk/event/master-apprentice-painting-with-a-young-leonardo/
LOCATION:Avon
ATTACH;FMTTYPE=image/jpeg:https://www.212productions.co.uk/wp-content/uploads/2026/02/212-Productions-Master-Apprentice-Painting-with-a-Young-Leonardo.jpg
END:VEVENT
END:VCALENDAR