BEGIN:VCALENDAR
VERSION:2.0
PRODID:-//212 Productions - ECPv6.15.20//NONSGML v1.0//EN
CALSCALE:GREGORIAN
METHOD:PUBLISH
X-ORIGINAL-URL:https://www.212productions.co.uk
X-WR-CALDESC:Events for 212 Productions
REFRESH-INTERVAL;VALUE=DURATION:PT1H
X-Robots-Tag:noindex
X-PUBLISHED-TTL:PT1H
BEGIN:VTIMEZONE
TZID:UTC
BEGIN:STANDARD
TZOFFSETFROM:+0000
TZOFFSETTO:+0000
TZNAME:UTC
DTSTART:20220101T000000
END:STANDARD
END:VTIMEZONE
BEGIN:VEVENT
DTSTART;TZID=UTC:20260319T190000
DTEND;TZID=UTC:20260322T170000
DTSTAMP:20260423T111534
CREATED:20260303T175016Z
LAST-MODIFIED:20260317T055047Z
UID:6595-1773946800-1774198800@www.212productions.co.uk
SUMMARY:212 Productions Presents: "Bristol Bristles Exhibition"
DESCRIPTION:Address : 19 Melrose Place\, Bristol BS8 2NG (Entrance behind Everyman Cinema)Opening night will be the 19th of March 7PM -10PMShowcasing Works By  Artists :Cheba\,  Derren Brown\,  Noisetteya\,  Payta Easton\,  Jojo Fowler\,  Rebeca Santos\, Andrew Burns Colwill\,  Andy Council\,  Emma Catherine\,  Marta Zubieta\,  Jim Starr\, James Chen-Wishart\,  Neil Roberts\,  Martin Thompson\,  Lemak\,  Inkie\,  Jimmer Willmott  & more.. \n\n\n\nMeet the artists: \n\n\n\nSaturday 11:30 – 4pm  \n\n\n\nSunday  12 pm – 4pm  \n\n\n\nLost and Grounded Brewers generously sponsored us with cases of beer for our art exhibition. Inspired by the precision of German brewing and the unique character of Belgian beers\, they crafted their brewhouse to bring these fermentation marvels to life—turning their passion into perfection. \n\n\n\nhttps://www.lostandgrounded.co.uk \n\n\n\n\n\n\n\n\n\n\n\nWe are delighted to be participating yet again in the Bristol Gallery weekend 19 March – 22 March 2026  https://bristolgalleryweekend.org.ukIt showcases the contemporary art scene in Bristol with a rich programme of events at various art spaces\, galleries\, artist-run projects\, and private art collections.It’s an opportunity to discover and explore Bristol’s world-class gallery scene. This celebrates the city’s diverse creative spaces with an extensive programme scheduled especially for the weekend. The events include talks\, private views\, workshops and special events.
URL:https://www.212productions.co.uk/event/212-productions-presents-bristol-bristles-exhibition/
LOCATION:212 Productions Ltd\, Studio rear of 78 Alma Road\, Bristol\, Avon\, BS8 2DJ
CATEGORIES:Exhibitions,Previews
ATTACH;FMTTYPE=image/jpeg:https://www.212productions.co.uk/wp-content/uploads/2026/03/Bristol-Bristles-Square.jpg
END:VEVENT
BEGIN:VEVENT
DTSTART;TZID=UTC:20260207T113000
DTEND;TZID=UTC:20260221T170000
DTSTAMP:20260423T111534
CREATED:20260204T114335Z
LAST-MODIFIED:20260204T114446Z
UID:6582-1770463800-1771693200@www.212productions.co.uk
SUMMARY:Master & Apprentice: Painting with a Young Leonardo
DESCRIPTION:Before Leonardo da Vinci became a legend\, he was an apprentice in Andrea del Verrocchio’s vibrant Florentine workshop. While working on The Baptism of Christ\, Leonardo’s contribution was so exquisitely refined that\, according to legend\, Verrocchio never painted again. This extraordinary moment—where mastery quietly eclipses tradition—forms the heart of this course. \n\n\n\nIn this immersive oil painting course\, we will focus on painting the two angels from The Baptism of Christ\, exploring the moment where High Renaissance naturalism truly comes alive. You’ll learn how to build luminous flesh and atmosphere using the Sfumato technique—Leonardo’s famously subtle\, almost magical method of soft transitions. We’ll also dive deep into convincing drapery folds\, understanding how fabric flows\, settles\, and supports form\, and you’ll learn how to integrate gold leaf into your paintings\, uniting brilliance with classical tradition. \n\n\n\nSeveral of you mentioned wanting to finally get to grips with painting drapery with confidence—there could be no better guide than a young Leonardo himself. This course is ideal if you want to slow down\, refine your eye\, and paint with intention\, sensitivity\, and historical depth. \n\n\n\n\n\n\n\n\n\n\n\nDates:Saturday 7 FebruarySaturday 15 FebruarySaturday 21 February \n\n\n\nPossible additional session:Sunday 22 February (TBC\, based on student availability)(No extra cost if required) \n\n\n\nTime: 11:30 AM – 5:00 PMLocation: 212 Productions Studio https://www.212productions.co.uk/contact/Fee: £295 per person \n\n\n\nEmail: drawingboard212@gmail.com \n\n\n\nTickets Available on Headfirst or get in touch https://hdfst.uk/e145029 \n\n\n\nThis course offers a rare opportunity to step inside a Renaissance workshop\, refine essential painting skills\, and experience the quiet power of classical technique. I very much look forward to creating with you. \n\n\n\nEnd date: 6:00pm on Sunday February 22nd\, 2026
URL:https://www.212productions.co.uk/event/master-apprentice-painting-with-a-young-leonardo/
LOCATION:Avon
ATTACH;FMTTYPE=image/jpeg:https://www.212productions.co.uk/wp-content/uploads/2026/02/212-Productions-Master-Apprentice-Painting-with-a-Young-Leonardo.jpg
END:VEVENT
BEGIN:VEVENT
DTSTART;TZID=UTC:20251111T090000
DTEND;TZID=UTC:20251112T170000
DTSTAMP:20260423T111534
CREATED:20251007T110509Z
LAST-MODIFIED:20251007T110514Z
UID:6500-1762851600-1762966800@www.212productions.co.uk
SUMMARY:West Bristol Arts Trail 2025
DESCRIPTION:Fine Artist Neil Roberts & some 212 Productions LTD clients will showcasing artworks in our printing studio \n\n\n\nFeatured Artists : Lloyd Cowling\, Carla James\, Neil Roberts\, Derren Brown\,inkie\, Cheba & many more  \n\n\n\nhttps://westbristolartstrail.co.uk/artist-details/lloyd-cowling/ \n\n\n\nhttps://www.carlajames.co.uk \n\n\n\nhttps://www.neilroberts-arts.com \n\n\n\nhttps://www.212productions.co.uk/artists/derren-brown/ \n\n\n\nhttps://inkie.bigcartel.com \n\n\n\nhttps://www.212productions.co.uk/artists/cheba-2/
URL:https://www.212productions.co.uk/event/west-bristol-arts-trail-2025/
LOCATION:212 Productions Ltd\, Studio rear of 78 Alma Road\, Bristol\, Avon\, BS8 2DJ
CATEGORIES:Exhibitions
ATTACH;FMTTYPE=image/jpeg:https://www.212productions.co.uk/wp-content/uploads/2025/10/West-trail.jpg
END:VEVENT
BEGIN:VEVENT
DTSTART;TZID=UTC:20251101T113000
DTEND;TZID=UTC:20251115T173000
DTSTAMP:20260423T111534
CREATED:20251007T105938Z
LAST-MODIFIED:20251007T111053Z
UID:6491-1761996600-1763227800@www.212productions.co.uk
SUMMARY:Know Thyself!
DESCRIPTION:Head study fundamentals workshop to more advanced \n\n\n\nHead Studies\, ending in a self-portrait in oils! \n\n\n\nYou are your own best model ! \n\n\n\n\n\n\n\n🦴 Head Lay-ins\, Skull & Asaro Head Abstraction🧔‍♂️ Drawing from Male/Female Cast & Photo Reference⏱️ Timed Head Drawing Practice \n\n\n\n\n\n\n\n– 15 sec\, 5 min\, 10 min\, 20 min\, 1 hour\, plus 1-hour master study🪞 Extended Portrait (3–4 hrs) \n\n\n\n– Plus a portrait photography session to capture a quality reference for an Old Master-inspired oil painting utilizing the infamous Zorn palette!   \n\n\n\n\n\n\n\nIn this course\, we begin with head lay-ins through the Loomis Method\, establishing a clear framework of structure and proportion. From there\, we introduce the Reilly Abstractions—a dynamic system of rhythms that bring unity and vitality to facial features. By combining these two approaches\, you will gain the ability to construct heads with both accuracy and expressive flow\, building a foundation for strong\, confident drawing studies. \n\n\n\n\n\n\n\n\n\n\n\n🧑‍🎨 Head Study Fundamentals to Advanced Workshop\n\n\n\n🎯 Sharpen your foundation or bring structure to your portrait sketching & painting practice! \n\n\n\n🗓️ When\n\n\n\n🖍️ Saturdays – November 1st  & 8th ⏰ 11:30AM – 17:00 PM  \n\n\n\n➕oil painting self-portrait day 🖍️ Saturday – November 15th ⏰ 11:30AM – 17:00 PM(+ Additional time on Sunday 16th if needed)⏳ Please note: The listed dates may be adjusted slightly to suit participant availability. We’ll work with you to ensure everyone can get the most out of this masterclass. \n\n\n\n💰 Pricing\n\n\n\n\n🎟️ £45 per person/session (2 total) : £90\n\n\n\n🖌️ Add-on oil self-portrait session: £125\n\n\n\nTotal Price = £215\n\n\n\nGreat value with expert instruction\n\n\n\n\n📍 Location –\n\n\n\n🏠 212 Productions Studio – A cosy\, inspiring workspace! Studio Rearof 78 Alma Road\, Bristol\, BS8 2DJ ENTRANCE BEHIND EVERYMAN CINEMA ON 19 MELROSE PLACE ROAD BS8 2NG \n\n\n\n🎓 What We’ll Cover\n\n\n\n\n🦴 Head Lay-ins\, Skull & Asaro Head Abstraction\n\n\n\n🧔‍♂️ Drawing from Male/Female Cast & Photo Reference\n\n\n\n⏱️ Timed Head Drawing Practice\n\n\n\n– 15 sec\, 5 min\, 10 min\, 20 min\, 1 hour\, plus 1-hour master study\n\n\n\n🪞 Extended Portrait (3–4 hrs)\n\n\n\n– Plus a portrait photography session to capture a quality reference for an Old Master-inspired oil painting utilizing the infamous Zorn palette!  \n\n\n\n\n🧠 What You’ll Learn\n\n\n\n\n✏️ How to sharpen pencils properly for precision\n\n\n\n👤 Core anatomy of the human head\n\n\n\n🧱 Constructive & rhythmic block-in methods\n\n\n\n🧭 Articulating facial features and planes\n\n\n\n🎨 Final value rendering with painterly sensitivity\n\n\n\n\n🎁 What’s Included\n\n\n\n\n📄 Newsprint paper\, printed references & handouts\n\n\n\n👨‍🏫 Professional\, in-depth instruction\n\n\n\n☕ Complimentary refreshments\n\n\n\n🛍️ 10% discount at Bristol Fine Art (74 Park Row\, Avon\, Bristol BS1 5LE)\n\n\n\n✍️ Access to Wolf’s Carbon 6B pencils & putty erasers (available to purchase if needed)\n\n\n\n\n🖼️ Bonus: Self-Portrait in Oil\n\n\n\nAs an enriching extension of the course\, students will complete an oil self-portrait\, drawing inspiration from the works of the Old Masters. \n\n\n\n🎟 How to Book:To reserve your space\, please email me directly at drawingboard212@gmail.com.This helps avoid extra fees from website hosts and payment platforms — every little helps! \n\n\n\n💳 Payment Info:You’re welcome to pay by bank transfer — just be sure to include your name in the reference when making the payment.  \n\n\n\nLooking forward to creating with you! \n\n\n\nNationwideMr N T Roberts BN:  37476113SC:   07 02  46
URL:https://www.212productions.co.uk/event/know-thyself/
LOCATION:212 Productions Ltd\, Studio rear of 78 Alma Road\, Bristol\, Avon\, BS8 2DJ
CATEGORIES:Classes
ATTACH;FMTTYPE=image/jpeg:https://www.212productions.co.uk/wp-content/uploads/2025/10/Know-Thyself-Event.jpg
END:VEVENT
BEGIN:VEVENT
DTSTART;TZID=UTC:20250331T110000
DTEND;TZID=UTC:20250427T190000
DTSTAMP:20260423T111534
CREATED:20250304T125208Z
LAST-MODIFIED:20250304T125339Z
UID:6345-1743418800-1745780400@www.212productions.co.uk
SUMMARY:Oil Painting Master Study (April 2025)
DESCRIPTION:Girl with a Pearl Earring by the Dutch Painter Johannes Vermeer Master Study. This beautiful painting was painted over 3 weekends in February/March 2025. Beginners were welcome! If students could not  make all the sessions\, we  provided them with high-resolution training footage of the session missed. \n\n\n\nThis will be a small class so instructor Neil Roberts can give you bountiful attention. This will be held in our cosy fine art printing studio at 212 Productions LTD https://www.212productions.co.uk/contact/ \n\n\n\n> Part 1 (head study\, execute drawing onto canvas and underpainting): Saturday 11am until 7pm  \n\n\n\n> Part 2 (building mass/body\, adding volume\, getting to know the oil medium\, refining the painting) : Saturday 11am until 7pm  \n\n\n\n> Part 3 (Further refining the painting and bringing it to a close) : Saturday 11am until 7pm and Sunday 11:30am – 6pm \n\n\n\nOverall we will cover head study\, underpainting\, grisaille painting techniques\, and glazing. \n\n\n\n 
URL:https://www.212productions.co.uk/event/oil-painting-master-study-april-2025/
LOCATION:212 Productions Ltd\, Studio rear of 78 Alma Road\, Bristol\, Avon\, BS8 2DJ
CATEGORIES:Classes
ATTACH;FMTTYPE=image/jpeg:https://www.212productions.co.uk/wp-content/uploads/2025/03/pearl-earring-1st.jpg
END:VEVENT
BEGIN:VEVENT
DTSTART;TZID=UTC:20250323T190000
DTEND;TZID=UTC:20250430T200000
DTSTAMP:20260423T111534
CREATED:20250228T162615Z
LAST-MODIFIED:20250416T102810Z
UID:6323-1742756400-1746043200@www.212productions.co.uk
SUMMARY:Eclectic Horizons
DESCRIPTION:You can now enjoy the exhibition by entering the virtual gallery below: \n\n\n\n\n\n\n\n\n\n\n\n\n212 Productions Presents: “Eclectic Horizons Exhibition” \n\n\n\nAddress : 19 Melrose Place\, Bristol BS8 2NG (Entrance behind Everyman Cinema) \n\n\n\nOpening night will be the 20th of March 7PM -10PM \n\n\n\nShowcasing Works By  Artists : \n\n\n\nCheba\,  Derren Brown\,  Martin Turner\,  Inkie\, Rowdy\,  Andrew Burns Colwill\,  Monica Cuellar\, Emma Catherine\,  Nancy Chambers\, Toni Burrows\, Marta Zubieta\,  Jim Starr\,  Jim Steele\,  Ducan Knox\, James Wishart\, Carla James\, JoJo Fowler\, Neil Roberts & more. \n\n\n\nWe have Live Music on the evening with :  Astro Vinyl  and Butcher/Berkeley  \n\n\n\nButcher/Berkeley  \n\n\n\nA unique Guitar/vocal and violin duo\, playing oriental swamp music. \n\n\n\nAstro Vinyl ( Record Store/Coffee Shop/Film Set in Bristol UK selling used Jazz\, Metal\, Punk\, Avant\, Indie Japanese and much more. \n\n\n\nBased on 68 Park Row\, Bristol ) will be playing an eclectic mix of tracks to compliment the exhibition’s artworks \n\n\n\nLost and Grounded Brewers have generously sponsored us with cases of beer for our art exhibition. Inspired by the precision of German brewing and the unique character of Belgian beers\, they crafted their brewhouse to bring these fermentation marvels to life—turning their passion into perfection. \n\n\n\n\nhttps://www.lostandgrounded.co.uk\n\n\n\n\nMonty Wines will be providing a selection of exquisite wine for the evening. \n\n\n\n\nhttps://www.montywines.co.uk\n\n\n\n\nHalewood Artisanal Spirits Group is graciously offering a selection of their finest beverages at our artistic event : \n\n\n\nWhitley Neill is the UK’s number one premium gin. The Whitley Neill range comprises award-winning London Dry Gins (distilled in the heart of London itself) – Distiller’s Cut & Connoisseur’s Cut – as well as flavoured gins which showcase the Neill family’s legacy of experimenting with exceptional flavours\, sourced from all over the world to create the most distinctive and intriguing spirits.Aber Falls Whisky Distillery is the first in North Wales for over 100 years\, producing premium spirits with Welsh water that is filtered through the rocks of the Snowdonia mountains. \n\n\n\n\n\n\n\nWe are delighted to be participating in 2025 Bristol Gallery weekend \n\n\n\n20 March – 23 March 2025 \n\n\n\n\nhttps://bristolgalleryweekend.org.uk\n\n\n\n\nShowcasing the contemporary art scene in Bristol with a rich programme of events at a variety of art spaces\, galleries\, artist run projects and private art collections. \n\n\n\nAn opportunity to discover and explore Bristol’s world-class gallery scene. Celebrating the city’s diverse creative spaces with an extensive programme scheduled especially for the weekend. Including talks\, private views\, family workshops and special events.
URL:https://www.212productions.co.uk/event/eclectic-horizons/
LOCATION:212 Productions Ltd\, Studio rear of 78 Alma Road\, Bristol\, Avon\, BS8 2DJ
CATEGORIES:Exhibitions,Previews
ATTACH;FMTTYPE=image/jpeg:https://www.212productions.co.uk/wp-content/uploads/2025/02/eclectic-horizons.jpg
END:VEVENT
BEGIN:VEVENT
DTSTART;TZID=UTC:20250215T113000
DTEND;TZID=UTC:20250302T173000
DTSTAMP:20260423T111534
CREATED:20250303T113243Z
LAST-MODIFIED:20250304T091243Z
UID:6317-1739619000-1740936600@www.212productions.co.uk
SUMMARY:Oil Painting Master Study
DESCRIPTION:Girl with a Pearl Earring by the Dutch Painter Johannes Vermeer Master Study. This beautiful painting will be covered over 3 weekends in February/March 2025. Beginners welcome! Also\, if you cannot make all the sessions\, we can provide you with high-resolution training footage of the session missed. \n\n\n\nThis will be a small class so instructor Neil Roberts can give you bountiful attention. This will be held in our cosy fine art printing studio at 212 Productions LTD https://www.212productions.co.uk/contact/ \n\n\n\n> Part 1 (head study\, execute drawing onto canvas and underpainting): weekend 15th Feb / 16th Feb \n\n\n\n> Part 2 (building mass/body\, adding volume\, getting to know the oil medium\, refining the painting) : weekend 22nd Feb / 23rd Feb \n\n\n\n> Part 3 (Further refining the painting and bringing it to a close) : weekend 1st March / 2nd March \n\n\n\nOverall we will cover head study\, underpainting\, grisaille painting techniques\, and glazing. \n\n\n\n\n\n\n\n\n\n\n\n\n\n\n\n\n\n 
URL:https://www.212productions.co.uk/event/oil-painting-master-study/
LOCATION:212 Productions Ltd\, Studio rear of 78 Alma Road\, Bristol\, Avon\, BS8 2DJ
CATEGORIES:Classes
ATTACH;FMTTYPE=image/jpeg:https://www.212productions.co.uk/wp-content/uploads/2025/02/pearly-copy.jpg
END:VEVENT
BEGIN:VEVENT
DTSTART;TZID=UTC:20240411T183000
DTEND;TZID=UTC:20240411T210000
DTSTAMP:20260423T111534
CREATED:20240308T141042Z
LAST-MODIFIED:20240308T141042Z
UID:6145-1712860200-1712869200@www.212productions.co.uk
SUMMARY:Back to the Drawing Board! – Figure Drawing Stage 2: A series of six Thursday sessions - Starting April 11
DESCRIPTION:This 2nd stage involves studying the male and female forms through photographic exercises. Revealing the underlying abstraction rhythms and leading you through various lay-ins from common perspectives. Following these exercises\, you will then implement these lessons in the context of a live model. We will be recapping Stage 1 in the first lesson & handouts for this stage will be available to get you up to speed. \nThis stage will be great for beginners and more advanced as it is always progressive to rekindle old skills and perhaps learn some new ones! There will be four-figure stage courses in total. This section  further cements the foundations for your artistic journey through the various proceeding stages. \nDetails : Sessions will be held on Thursdays 18:30 – 9 pm in our cozy 212 Productions studio. Sessions are only £25 each\, we recommend booking all 6 sessions to get the most out of this course! We will provide some materials & Bristol Fine Art is offering 10% off supplies for people doing this course. Students will receive printed course handouts\, good model ref for practice & refreshments will be available.   \nIf you are interested in joining us please email drawingboard212@gmail.com\n(Subject: Drawing Fig Stage 2)
URL:https://www.212productions.co.uk/event/back-to-the-drawing-board-figure-drawing-stage-2-a-series-of-six-thursday-sessions-starting-april-11/
LOCATION:212 Productions Ltd\, Studio rear of 78 Alma Road\, Bristol\, Avon\, BS8 2DJ
CATEGORIES:Classes
ATTACH;FMTTYPE=image/jpeg:https://www.212productions.co.uk/wp-content/uploads/2024/03/StAGE-2-1.jpg
END:VEVENT
BEGIN:VEVENT
DTSTART;TZID=UTC:20240405T190000
DTEND;TZID=UTC:20240405T230000
DTSTAMP:20260423T111534
CREATED:20240308T171014Z
LAST-MODIFIED:20240308T171014Z
UID:6178-1712343600-1712358000@www.212productions.co.uk
SUMMARY:Obliteration Potraits by James Chen-Wishart
DESCRIPTION:A FREE night of Art\, live music and interactive art sponsored by Lost and Grounded Brewery. Featuring music from folk punk duo Butcher/Berkeley and DJ Pazuzu. \nOBLITERATION PORTRAITS is a new solo show comprising of 30 original paintings by James Chen-Wishart. The title is a reference to Yayoi Kusama’s idea of ‘Self Obliteration’\, which she achieved in her work through the use of repetition and pattern. James Chen-Wishart uses paintings of figurative skeletons in dark voids with heads made of light\, colour and organic forms. \nI want this to be a body of work to be about humanity\, emotions and encounters that transport us to different experiences of our existence. We are all just skeletons walking around in darkness made light and colour through the actions of our senses and our minds. \nOBLITERATION PORTRAITS Opens on the 5th of April all are welcome to the opening event from 7-11pm at 212 PRODUCTIONS Everyman cinema Driveway\, Entrance behind\, 19 Melrose Pl\, Bristol BS8 2NG and is open Tuesdays\, Thursdays 9am-6:30pm Saturday-Sunday 12pm-4pm until the 5th of May. It is possible to visit other days but it’s recommend to call ahead (07804700868) and make an appointment to insure the studio is open and someone is there to answer any enquiries you may have. \nhttps://www.instagram.com/jameschenwishart
URL:https://www.212productions.co.uk/event/obliteration-potraits-by-james-chen-wishart/
LOCATION:212 Productions Ltd\, Studio rear of 78 Alma Road\, Bristol\, Avon\, BS8 2DJ
CATEGORIES:Previews
ATTACH;FMTTYPE=image/jpeg:https://www.212productions.co.uk/wp-content/uploads/2024/03/wishart.jpg
END:VEVENT
BEGIN:VEVENT
DTSTART;TZID=UTC:20240321T190000
DTEND;TZID=UTC:20240321T210000
DTSTAMP:20260423T111534
CREATED:20240308T141020Z
LAST-MODIFIED:20240308T141020Z
UID:6143-1711047600-1711054800@www.212productions.co.uk
SUMMARY:Back to the Drawing Board! – Life Drawing Untutored March Sessions 21st with Callie
DESCRIPTION:Realign and unwind with our Back to the Drawing March session Thursday evening 21st. This session is designed for those seeking a blend of quick sketching and medium poses. Explore a variety of poses in different positions and durations\, ranging from 2-minute to 20-minute intervals. Our vibrant and dynamic life models will pose\, providing an inspiring backdrop for seasoned artists and those aspiring to unleash their artistic talents! \n……………………….. \nDetails: Commencing at 7 pm and concluding at 9 pm\, our class unfolds within our secure and inviting studio space\, with a fee of £12 per person inclusive of primary materials at no additional charge. This enjoyable\, amiable\, and laid-back session is for individuals of all skill levels. No prior experience is required – it’s an inclusive environment where everyone is welcome. Whether you’re keen to explore something new\, revive an old skill\, or seek a dose of creative escapism\, this class is tailor-made for you:)  \nBristol Fine Art is offering 10% off supplies for people doing these sessions too!  \nTickets available soon!
URL:https://www.212productions.co.uk/event/back-to-the-drawing-board-life-drawing-untutored-march-sessions-21st-with-callie/
LOCATION:212 Productions Ltd\, Studio rear of 78 Alma Road\, Bristol\, Avon\, BS8 2DJ
CATEGORIES:Classes
ATTACH;FMTTYPE=image/jpeg:https://www.212productions.co.uk/wp-content/uploads/2024/03/21st.jpg
END:VEVENT
BEGIN:VEVENT
DTSTART;TZID=UTC:20240307T190000
DTEND;TZID=UTC:20240307T210000
DTSTAMP:20260423T111534
CREATED:20240306T122300Z
LAST-MODIFIED:20240308T140537Z
UID:6138-1709838000-1709845200@www.212productions.co.uk
SUMMARY:Back to the Drawing Board! – Life Drawing Untutored March Sessions 7th with model Sandra
DESCRIPTION:Elevate your week with a touch of creativity with dynamic life model Sandra! \nRealign and unwind with our Back to the Drawing March sessions Thursday evenings 7th & 21st. These sessions are designed for those seeking a blend of quick sketching and medium poses. Explore a variety of poses in different positions and durations\, ranging from 2-minute to 20-minute intervals. Our vibrant and dynamic life models will pose\, providing an inspiring backdrop for seasoned artists and those aspiring to unleash their artistic talents! \nDetails: Commencing at 7 pm and concluding at 9 pm\, our class unfolds within our secure and inviting studio space\, with a fee of £12 per person inclusive of primary materials at no additional charge. This enjoyable\, amiable\, and laid-back session is for individuals of all skill levels. No prior experience is required – it’s an inclusive environment where everyone is welcome. Whether you’re keen to explore something new\, revive an old skill\, or seek a dose of creative escapism\, this class is tailor-made for you:)  \nBristol Fine Art is offering 10% off supplies for people doing these sessions too!  \nLimited spaces secure you ticket here https://hdfst.uk/e104878 
URL:https://www.212productions.co.uk/event/back-to-the-drawing-board-life-drawing-untutored-march-sessions-7th-with-model-sandra/
LOCATION:212 Productions Ltd\, Studio rear of 78 Alma Road\, Bristol\, Avon\, BS8 2DJ
ATTACH;FMTTYPE=image/jpeg:https://www.212productions.co.uk/wp-content/uploads/2024/03/7TH.jpg
END:VEVENT
BEGIN:VEVENT
DTSTART;TZID=UTC:20231026T183000
DTEND;TZID=UTC:20231026T210000
DTSTAMP:20260423T111534
CREATED:20231005T131708Z
LAST-MODIFIED:20231005T131743Z
UID:5995-1698345000-1698354000@www.212productions.co.uk
SUMMARY:Back to the Drawing Board! - Figure Drawing Stage 1: A series of six Thursday sessions
DESCRIPTION:In this first stage\, we will be mainly focused on drawing fundamentals. Starting with “comparative measurement techniques” navigating the human form using various mannequins eventually utilising these acquired skills to picture references and professional life models. \nFig stage 1 will be great for beginners and more advanced as it is always progressive to rekindle old skills and perhaps learn some new ones! There will be four-figure stage courses in total. This section cements the foundations for your artistic journey through the various proceeding stages. \nDETAILS : Studio Rear of 78 Alma Road\, Bristol\, BS8 2DJ\nEntrance behind Everyman cinema\, 19 Melrose Place BS8 2NG \nSessions will be held on Thursdays 18:30 – 9 pm in our new spacious 212 Productions studio. Sessions are only £25 each\, we recommend booking all 6 sessions to get the most of out this course! We will provide some materials & Bristol Fine Art is offering 10% off supplies for people doing this course. Students will receive printed course handouts\, good model ref for practice & refreshments will be available.  \nInterested? Just send email subject line Drawing : drawingboard212@gmail.com
URL:https://www.212productions.co.uk/event/back-to-the-drawing-board-figure-drawing-stage-1-a-series-of-six-thursday-sessions-261023/
LOCATION:Back to the Drawing Board Studio\, Studio rear of 78 Alma Road\, Bristol\, Avon\, BS8 2DJ
CATEGORIES:Classes
ATTACH;FMTTYPE=image/jpeg:https://www.212productions.co.uk/wp-content/uploads/2023/10/backtodraw.jpg
END:VEVENT
BEGIN:VEVENT
DTSTART;TZID=UTC:20231014T100000
DTEND;TZID=UTC:20231015T170000
DTSTAMP:20260423T111534
CREATED:20231005T135306Z
LAST-MODIFIED:20231005T135306Z
UID:6003-1697277600-1697389200@www.212productions.co.uk
SUMMARY:West Bristol Arts Trail 2023
DESCRIPTION:212 Productions Ltd Specialists in high-quality printing are excited to announce we are participating in this year’s West Bristol Arts Trail https://westbristolarts.com . We are highly impressed with the line-up and organisation of this event indeed…these guys know what they are doing! This event occurs on the weekend of the 14th & 15th of October. There will be an Preview opening party before this all kicks off\, 6:30 – 9pm on Friday the 13th. \nAt this event\, we will have Jewellery & art stalls\, eclectic print racks loaded with Ltd edition archival prints & the walls will be adorned with the finest artworks! There will also be refreshments available;) We will be showcasing works by some of our most celebrated clients.
URL:https://www.212productions.co.uk/event/west-bristol-arts-trail-2023/
LOCATION:212 Productions Ltd\, Studio rear of 78 Alma Road\, Bristol\, Avon\, BS8 2DJ
CATEGORIES:Exhibitions
ATTACH;FMTTYPE=image/jpeg:https://www.212productions.co.uk/wp-content/uploads/2023/10/WBAT_2023_banner.jpg
END:VEVENT
BEGIN:VEVENT
DTSTART;TZID=UTC:20231013T183000
DTEND;TZID=UTC:20231013T210000
DTSTAMP:20260423T111534
CREATED:20231005T135410Z
LAST-MODIFIED:20231005T135410Z
UID:6007-1697221800-1697230800@www.212productions.co.uk
SUMMARY:West Bristol Arts Trail 2023 - Private View
DESCRIPTION:212 Productions Ltd Specialists in high-quality printing are excited to announce we are participating in this year’s West Bristol Arts Trail https://westbristolarts.com . We are highly impressed with the line-up and organisation of this event indeed…these guys know what they are doing! This event occurs on the weekend of the 14th & 15th of October. There will be an Preview opening party before this all kicks off\, 6:30 – 9pm on Friday the 13th. \nAt this event\, we will have Jewellery & art stalls\, eclectic print racks loaded with Ltd edition archival prints & the walls will be adorned with the finest artworks! There will also be refreshments available;) We will be showcasing works by some of our most celebrated clients.
URL:https://www.212productions.co.uk/event/west-bristol-arts-trail-2023-private-view/
LOCATION:212 Productions Ltd\, Studio rear of 78 Alma Road\, Bristol\, Avon\, BS8 2DJ
CATEGORIES:Exhibitions
ATTACH;FMTTYPE=image/jpeg:https://www.212productions.co.uk/wp-content/uploads/2023/10/WBAT_2023_banner.jpg
END:VEVENT
END:VCALENDAR